BEGIN:VCALENDAR
VERSION:2.0
PRODID:-//Nevada Rural Hospital Partners - ECPv6.10.0//NONSGML v1.0//EN
CALSCALE:GREGORIAN
METHOD:PUBLISH
X-ORIGINAL-URL:https://nrhp.org
X-WR-CALDESC:Events for Nevada Rural Hospital Partners
REFRESH-INTERVAL;VALUE=DURATION:PT1H
X-Robots-Tag:noindex
X-PUBLISHED-TTL:PT1H
BEGIN:VTIMEZONE
TZID:UTC
BEGIN:STANDARD
TZOFFSETFROM:+0000
TZOFFSETTO:+0000
TZNAME:UTC
DTSTART:20200101T000000
END:STANDARD
END:VTIMEZONE
BEGIN:VEVENT
DTSTART;TZID=UTC:20201119T100000
DTEND;TZID=UTC:20201119T120000
DTSTAMP:20260420T112143
CREATED:20191203T034304Z
LAST-MODIFIED:20201109T195815Z
UID:3851-1605780000-1605787200@nrhp.org
SUMMARY:Nevada Rural Health Day Conference
DESCRIPTION:Public Health and Rural Nevada…What You Should Know
URL:https://nrhp.org/event/national-rural-health-day/
LOCATION:Videoconference\, NV\, United States
CATEGORIES:Rural Health Summit
ATTACH;FMTTYPE=image/jpeg:https://nrhp.org/wp-content/uploads/2019/12/patient_with_doctor.jpg
END:VEVENT
END:VCALENDAR